Workbook

Sheet Timesheet
A1: Timesheet
A2: Enter start and end times (hh:mm) and any unpaid break in minutes, or leave start/end empty and type hours directly in "Manual hours".
A3: Totals | H3: =SUM(H6:H505) | J3: =SUM(J6:J505) | L3: =SUM(L6:L505)
A5: Date | B5: Client / project | C5: Task | D5: Start | E5: End | F5: Break (min) | G5: Manual hours | H5: Hours | I5: Billable? | J5: Billed hours | K5: Rate | L5: Amount | M5: Invoiced? | N5: Invoice no.
A6: 46027 | B6: Example: Acme GmbH | C6: Kick-off call and specs | D6: 0.375 | E6: 0.43055556 | F6: 0 | H6: =IF(AND(D6<>"",E6<>""),ROUND(MAX(0,(MOD(E6-D6,1)*1440-N(F6))/60),4),IF(G6<>"",N(G6),"")) | I6: Yes | J6: =IF(OR(H6="",I6="No"),IF(H6="","",0),IF(N(Clients!$C$3)>0,CEILING(H6*60,Clients!$C$3)/60,H6)) | K6: =IF(B6="","",IFERROR(INDEX(Clients!$B$6:$B$20,MATCH(B6,Clients!$A$6:$A$20,0)),0)) | L6: =IF(OR(J6="",K6=""),"",ROUND(J6*K6,2)) | M6: Yes | N6: 2026-001
A7: 46027 | B7: Example: Acme GmbH | C7: Wireframes | D7: 0.54166667 | E7: 0.72916667 | F7: 30 | H7: =IF(AND(D7<>"",E7<>""),ROUND(MAX(0,(MOD(E7-D7,1)*1440-N(F7))/60),4),IF(G7<>"",N(G7),"")) | I7: Yes | J7: =IF(OR(H7="",I7="No"),IF(H7="","",0),IF(N(Clients!$C$3)>0,CEILING(H7*60,Clients!$C$3)/60,H7)) | K7: =IF(B7="","",IFERROR(INDEX(Clients!$B$6:$B$20,MATCH(B7,Clients!$A$6:$A$20,0)),0)) | L7: =IF(OR(J7="",K7=""),"",ROUND(J7*K7,2)) | M7: Yes | N7: 2026-001
A8: 46028 | B8: Example: Studio Lisboa | C8: Homepage build | D8: 0.38541667 | E8: 0.52777778 | F8: 15 | H8: =IF(AND(D8<>"",E8<>""),ROUND(MAX(0,(MOD(E8-D8,1)*1440-N(F8))/60),4),IF(G8<>"",N(G8),"")) | I8: Yes | J8: =IF(OR(H8="",I8="No"),IF(H8="","",0),IF(N(Clients!$C$3)>0,CEILING(H8*60,Clients!$C$3)/60,H8)) | K8: =IF(B8="","",IFERROR(INDEX(Clients!$B$6:$B$20,MATCH(B8,Clients!$A$6:$A$20,0)),0)) | L8: =IF(OR(J8="",K8=""),"",ROUND(J8*K8,2)) | M8: No
A9: 46029 | B9: Example: Nordic SaaS AB | C9: Bug fixing (logged in another app) | G9: 2.5 | H9: =IF(AND(D9<>"",E9<>""),ROUND(MAX(0,(MOD(E9-D9,1)*1440-N(F9))/60),4),IF(G9<>"",N(G9),"")) | I9: Yes | J9: =IF(OR(H9="",I9="No"),IF(H9="","",0),IF(N(Clients!$C$3)>0,CEILING(H9*60,Clients!$C$3)/60,H9)) | K9: =IF(B9="","",IFERROR(INDEX(Clients!$B$6:$B$20,MATCH(B9,Clients!$A$6:$A$20,0)),0)) | L9: =IF(OR(J9="",K9=""),"",ROUND(J9*K9,2)) | M9: No
A10: 46029 | B10: Example: Studio Lisboa | C10: Quote revision (not billed) | D10: 0.66666667 | E10: 0.69791667 | F10: 0 | H10: =IF(AND(D10<>"",E10<>""),ROUND(MAX(0,(MOD(E10-D10,1)*1440-N(F10))/60),4),IF(G10<>"",N(G10),"")) | I10: No | J10: =IF(OR(H10="",I10="No"),IF(H10="","",0),IF(N(Clients!$C$3)>0,CEILING(H10*60,Clients!$C$3)/60,H10)) | K10: =IF(B10="","",IFERROR(INDEX(Clients!$B$6:$B$20,MATCH(B10,Clients!$A$6:$A$20,0)),0)) | L10: =IF(OR(J10="",K10=""),"",ROUND(J10*K10,2))
H11: =IF(AND(D11<>"",E11<>""),ROUND(MAX(0,(MOD(E11-D11,1)*1440-N(F11))/60),4),IF(G11<>"",N(G11),"")) | J11: =IF(OR(H11="",I11="No"),IF(H11="","",0),IF(N(Clients!$C$3)>0,CEILING(H11*60,Clients!$C$3)/60,H11)) | K11: =IF(B11="","",IFERROR(INDEX(Clients!$B$6:$B$20,MATCH(B11,Clients!$A$6:$A$20,0)),0)) | L11: =IF(OR(J11="",K11=""),"",ROUND(J11*K11,2))
H12: =IF(AND(D12<>"",E12<>""),ROUND(MAX(0,(MOD(E12-D12,1)*1440-N(F12))/60),4),IF(G12<>"",N(G12),"")) | J12: =IF(OR(H12="",I12="No"),IF(H12="","",0),IF(N(Clients!$C$3)>0,CEILING(H12*60,Clients!$C$3)/60,H12)) | K12: =IF(B12="","",IFERROR(INDEX(Clients!$B$6:$B$20,MATCH(B12,Clients!$A$6:$A$20,0)),0)) | L12: =IF(OR(J12="",K12=""),"",ROUND(J12*K12,2))
H13: =IF(AND(D13<>"",E13<>""),ROUND(MAX(0,(MOD(E13-D13,1)*1440-N(F13))/60),4),IF(G13<>"",N(G13),"")) | J13: =IF(OR(H13="",I13="No"),IF(H13="","",0),IF(N(Clients!$C$3)>0,CEILING(H13*60,Clients!$C$3)/60,H13)) | K13: =IF(B13="","",IFERROR(INDEX(Clients!$B$6:$B$20,MATCH(B13,Clients!$A$6:$A$20,0)),0)) | L13: =IF(OR(J13="",K13=""),"",ROUND(J13*K13,2))
H14: =IF(AND(D14<>"",E14<>""),ROUND(MAX(0,(MOD(E14-D14,1)*1440-N(F14))/60),4),IF(G14<>"",N(G14),"")) | J14: =IF(OR(H14="",I14="No"),IF(H14="","",0),IF(N(Clients!$C$3)>0,CEILING(H14*60,Clients!$C$3)/60,H14)) | K14: =IF(B14="","",IFERROR(INDEX(Clients!$B$6:$B$20,MATCH(B14,Clients!$A$6:$A$20,0)),0)) | L14: =IF(OR(J14="",K14=""),"",ROUND(J14*K14,2))
H15: =IF(AND(D15<>"",E15<>""),ROUND(MAX(0,(MOD(E15-D15,1)*1440-N(F15))/60),4),IF(G15<>"",N(G15),"")) | J15: =IF(OR(H15="",I15="No"),IF(H15="","",0),IF(N(Clients!$C$3)>0,CEILING(H15*60,Clients!$C$3)/60,H15)) | K15: =IF(B15="","",IFERROR(INDEX(Clients!$B$6:$B$20,MATCH(B15,Clients!$A$6:$A$20,0)),0)) | L15: =IF(OR(J15="",K15=""),"",ROUND(J15*K15,2))
H16: =IF(AND(D16<>"",E16<>""),ROUND(MAX(0,(MOD(E16-D16,1)*1440-N(F16))/60),4),IF(G16<>"",N(G16),"")) | J16: =IF(OR(H16="",I16="No"),IF(H16="","",0),IF(N(Clients!$C$3)>0,CEILING(H16*60,Clients!$C$3)/60,H16)) | K16: =IF(B16="","",IFERROR(INDEX(Clients!$B$6:$B$20,MATCH(B16,Clients!$A$6:$A$20,0)),0)) | L16: =IF(OR(J16="",K16=""),"",ROUND(J16*K16,2))
H17: =IF(AND(D17<>"",E17<>""),ROUND(MAX(0,(MOD(E17-D17,1)*1440-N(F17))/60),4),IF(G17<>"",N(G17),"")) | J17: =IF(OR(H17="",I17="No"),IF(H17="","",0),IF(N(Clients!$C$3)>0,CEILING(H17*60,Clients!$C$3)/60,H17)) | K17: =IF(B17="","",IFERROR(INDEX(Clients!$B$6:$B$20,MATCH(B17,Clients!$A$6:$A$20,0)),0)) | L17: =IF(OR(J17="",K17=""),"",ROUND(J17*K17,2))
H18: =IF(AND(D18<>"",E18<>""),ROUND(MAX(0,(MOD(E18-D18,1)*1440-N(F18))/60),4),IF(G18<>"",N(G18),"")) | J18: =IF(OR(H18="",I18="No"),IF(H18="","",0),IF(N(Clients!$C$3)>0,CEILING(H18*60,Clients!$C$3)/60,H18)) | K18: =IF(B18="","",IFERROR(INDEX(Clients!$B$6:$B$20,MATCH(B18,Clients!$A$6:$A$20,0)),0)) | L18: =IF(OR(J18="",K18=""),"",ROUND(J18*K18,2))
H19: =IF(AND(D19<>"",E19<>""),ROUND(MAX(0,(MOD(E19-D19,1)*1440-N(F19))/60),4),IF(G19<>"",N(G19),"")) | J19: =IF(OR(H19="",I19="No"),IF(H19="","",0),IF(N(Clients!$C$3)>0,CEILING(H19*60,Clients!$C$3)/60,H19)) | K19: =IF(B19="","",IFERROR(INDEX(Clients!$B$6:$B$20,MATCH(B19,Clients!$A$6:$A$20,0)),0)) | L19: =IF(OR(J19="",K19=""),"",ROUND(J19*K19,2))
H20: =IF(AND(D20<>"",E20<>""),ROUND(MAX(0,(MOD(E20-D20,1)*1440-N(F20))/60),4),IF(G20<>"",N(G20),"")) | J20: =IF(OR(H20="",I20="No"),IF(H20="","",0),IF(N(Clients!$C$3)>0,CEILING(H20*60,Clients!$C$3)/60,H20)) | K20: =IF(B20="","",IFERROR(INDEX(Clients!$B$6:$B$20,MATCH(B20,Clients!$A$6:$A$20,0)),0)) | L20: =IF(OR(J20="",K20=""),"",ROUND(J20*K20,2))
H21: =IF(AND(D21<>"",E21<>""),ROUND(MAX(0,(MOD(E21-D21,1)*1440-N(F21))/60),4),IF(G21<>"",N(G21),"")) | J21: =IF(OR(H21="",I21="No"),IF(H21="","",0),IF(N(Clients!$C$3)>0,CEILING(H21*60,Clients!$C$3)/60,H21)) | K21: =IF(B21="","",IFERROR(INDEX(Clients!$B$6:$B$20,MATCH(B21,Clients!$A$6:$A$20,0)),0)) | L21: =IF(OR(J21="",K21=""),"",ROUND(J21*K21,2))
H22: =IF(AND(D22<>"",E22<>""),ROUND(MAX(0,(MOD(E22-D22,1)*1440-N(F22))/60),4),IF(G22<>"",N(G22),"")) | J22: =IF(OR(H22="",I22="No"),IF(H22="","",0),IF(N(Clients!$C$3)>0,CEILING(H22*60,Clients!$C$3)/60,H22)) | K22: =IF(B22="","",IFERROR(INDEX(Clients!$B$6:$B$20,MATCH(B22,Clients!$A$6:$A$20,0)),0)) | L22: =IF(OR(J22="",K22=""),"",ROUND(J22*K22,2))
... H505: =IF(AND(D505<>"",E505<>""),ROUND(MAX(0,(MOD(E505-D505,1)*1440-N(F505))/60),4),IF(G505<>"",N(G505),"")) | J505: =IF(OR(H505="",I505="No"),IF(H505="","",0),IF(N(Clients!$C$3)>0,CEILING(H505*60,Clients!$C$3)/60,H505)) | K505: =IF(B505="","",IFERROR(INDEX(Clients!$B$6:$B$20,MATCH(B505,Clients!$A$6:$A$20,0)),0)) | L505: =IF(OR(J505="",K505=""),"",ROUND(J505*K505,2))

Sheet Clients
A1: Clients & hourly rates
A2: One row per client (or project). The rate is your net hourly rate before VAT. Rounding applies to every time entry.
A3: Round each entry up to (minutes) | C3: 15 | D3: 0 = no rounding; 6, 10, 15 or 30 are common.
A5: Client / project | B5: Hourly rate | C5: Currency | D5: Monthly hour cap | E5: Notes
A6: Example: Acme GmbH | B6: 80 | C6: EUR | D6: 40 | E6: Retainer, invoice monthly
A7: Example: Studio Lisboa | B7: 65 | C7: EUR | E7: Website project
A8: Example: Nordic SaaS AB | B8: 90 | C8: EUR
A23: Free template from eufreelancertools.com. Not legal or tax advice.

Sheet Monthly summary
A1: Monthly summary: what to invoice
A3: Year | B3: 2026
A4: Month (1-12) | B4: 1 | C4: =TEXT(DATE(B3,B4,1),"mmmm yyyy")
A6: Client / project | B6: Hours worked | C6: Billed hours | D6: Amount (net) | E6: Not yet invoiced | F6: Cap left (hours)
A7: =IF(Clients!A6="","",Clients!A6) | B7: =IF($A7="","",SUMIFS(Timesheet!$H$6:$H$505,Timesheet!$B$6:$B$505,$A7,Timesheet!$A$6:$A$505,">="&DATE($B$3,$B$4,1),Timesheet!$A$6:$A$505,"<"&EDATE(DATE($B$3,$B$4,1),1))) | C7: =IF($A7="","",SUMIFS(Timesheet!$J$6:$J$505,Timesheet!$B$6:$B$505,$A7,Timesheet!$A$6:$A$505,">="&DATE($B$3,$B$4,1),Timesheet!$A$6:$A$505,"<"&EDATE(DATE($B$3,$B$4,1),1))) | D7: =IF($A7="","",SUMIFS(Timesheet!$L$6:$L$505,Timesheet!$B$6:$B$505,$A7,Timesheet!$A$6:$A$505,">="&DATE($B$3,$B$4,1),Timesheet!$A$6:$A$505,"<"&EDATE(DATE($B$3,$B$4,1),1))) | E7: =IF($A7="","",D7-SUMIFS(Timesheet!$L$6:$L$505,Timesheet!$B$6:$B$505,$A7,Timesheet!$A$6:$A$505,">="&DATE($B$3,$B$4,1),Timesheet!$A$6:$A$505,"<"&EDATE(DATE($B$3,$B$4,1),1),Timesheet!$M$6:$M$505,"Yes")) | F7: =IF(OR($A7="",Clients!D6=""),"",Clients!D6-C7)
A8: =IF(Clients!A7="","",Clients!A7) | B8: =IF($A8="","",SUMIFS(Timesheet!$H$6:$H$505,Timesheet!$B$6:$B$505,$A8,Timesheet!$A$6:$A$505,">="&DATE($B$3,$B$4,1),Timesheet!$A$6:$A$505,"<"&EDATE(DATE($B$3,$B$4,1),1))) | C8: =IF($A8="","",SUMIFS(Timesheet!$J$6:$J$505,Timesheet!$B$6:$B$505,$A8,Timesheet!$A$6:$A$505,">="&DATE($B$3,$B$4,1),Timesheet!$A$6:$A$505,"<"&EDATE(DATE($B$3,$B$4,1),1))) | D8: =IF($A8="","",SUMIFS(Timesheet!$L$6:$L$505,Timesheet!$B$6:$B$505,$A8,Timesheet!$A$6:$A$505,">="&DATE($B$3,$B$4,1),Timesheet!$A$6:$A$505,"<"&EDATE(DATE($B$3,$B$4,1),1))) | E8: =IF($A8="","",D8-SUMIFS(Timesheet!$L$6:$L$505,Timesheet!$B$6:$B$505,$A8,Timesheet!$A$6:$A$505,">="&DATE($B$3,$B$4,1),Timesheet!$A$6:$A$505,"<"&EDATE(DATE($B$3,$B$4,1),1),Timesheet!$M$6:$M$505,"Yes")) | F8: =IF(OR($A8="",Clients!D7=""),"",Clients!D7-C8)
A9: =IF(Clients!A8="","",Clients!A8) | B9: =IF($A9="","",SUMIFS(Timesheet!$H$6:$H$505,Timesheet!$B$6:$B$505,$A9,Timesheet!$A$6:$A$505,">="&DATE($B$3,$B$4,1),Timesheet!$A$6:$A$505,"<"&EDATE(DATE($B$3,$B$4,1),1))) | C9: =IF($A9="","",SUMIFS(Timesheet!$J$6:$J$505,Timesheet!$B$6:$B$505,$A9,Timesheet!$A$6:$A$505,">="&DATE($B$3,$B$4,1),Timesheet!$A$6:$A$505,"<"&EDATE(DATE($B$3,$B$4,1),1))) | D9: =IF($A9="","",SUMIFS(Timesheet!$L$6:$L$505,Timesheet!$B$6:$B$505,$A9,Timesheet!$A$6:$A$505,">="&DATE($B$3,$B$4,1),Timesheet!$A$6:$A$505,"<"&EDATE(DATE($B$3,$B$4,1),1))) | E9: =IF($A9="","",D9-SUMIFS(Timesheet!$L$6:$L$505,Timesheet!$B$6:$B$505,$A9,Timesheet!$A$6:$A$505,">="&DATE($B$3,$B$4,1),Timesheet!$A$6:$A$505,"<"&EDATE(DATE($B$3,$B$4,1),1),Timesheet!$M$6:$M$505,"Yes")) | F9: =IF(OR($A9="",Clients!D8=""),"",Clients!D8-C9)
A10: =IF(Clients!A9="","",Clients!A9) | B10: =IF($A10="","",SUMIFS(Timesheet!$H$6:$H$505,Timesheet!$B$6:$B$505,$A10,Timesheet!$A$6:$A$505,">="&DATE($B$3,$B$4,1),Timesheet!$A$6:$A$505,"<"&EDATE(DATE($B$3,$B$4,1),1))) | C10: =IF($A10="","",SUMIFS(Timesheet!$J$6:$J$505,Timesheet!$B$6:$B$505,$A10,Timesheet!$A$6:$A$505,">="&DATE($B$3,$B$4,1),Timesheet!$A$6:$A$505,"<"&EDATE(DATE($B$3,$B$4,1),1))) | D10: =IF($A10="","",SUMIFS(Timesheet!$L$6:$L$505,Timesheet!$B$6:$B$505,$A10,Timesheet!$A$6:$A$505,">="&DATE($B$3,$B$4,1),Timesheet!$A$6:$A$505,"<"&EDATE(DATE($B$3,$B$4,1),1))) | E10: =IF($A10="","",D10-SUMIFS(Timesheet!$L$6:$L$505,Timesheet!$B$6:$B$505,$A10,Timesheet!$A$6:$A$505,">="&DATE($B$3,$B$4,1),Timesheet!$A$6:$A$505,"<"&EDATE(DATE($B$3,$B$4,1),1),Timesheet!$M$6:$M$505,"Yes")) | F10: =IF(OR($A10="",Clients!D9=""),"",Clients!D9-C10)
A11: =IF(Clients!A10="","",Clients!A10) | B11: =IF($A11="","",SUMIFS(Timesheet!$H$6:$H$505,Timesheet!$B$6:$B$505,$A11,Timesheet!$A$6:$A$505,">="&DATE($B$3,$B$4,1),Timesheet!$A$6:$A$505,"<"&EDATE(DATE($B$3,$B$4,1),1))) | C11: =IF($A11="","",SUMIFS(Timesheet!$J$6:$J$505,Timesheet!$B$6:$B$505,$A11,Timesheet!$A$6:$A$505,">="&DATE($B$3,$B$4,1),Timesheet!$A$6:$A$505,"<"&EDATE(DATE($B$3,$B$4,1),1))) | D11: =IF($A11="","",SUMIFS(Timesheet!$L$6:$L$505,Timesheet!$B$6:$B$505,$A11,Timesheet!$A$6:$A$505,">="&DATE($B$3,$B$4,1),Timesheet!$A$6:$A$505,"<"&EDATE(DATE($B$3,$B$4,1),1))) | E11: =IF($A11="","",D11-SUMIFS(Timesheet!$L$6:$L$505,Timesheet!$B$6:$B$505,$A11,Timesheet!$A$6:$A$505,">="&DATE($B$3,$B$4,1),Timesheet!$A$6:$A$505,"<"&EDATE(DATE($B$3,$B$4,1),1),Timesheet!$M$6:$M$505,"Yes")) | F11: =IF(OR($A11="",Clients!D10=""),"",Clients!D10-C11)
A12: =IF(Clients!A11="","",Clients!A11) | B12: =IF($A12="","",SUMIFS(Timesheet!$H$6:$H$505,Timesheet!$B$6:$B$505,$A12,Timesheet!$A$6:$A$505,">="&DATE($B$3,$B$4,1),Timesheet!$A$6:$A$505,"<"&EDATE(DATE($B$3,$B$4,1),1))) | C12: =IF($A12="","",SUMIFS(Timesheet!$J$6:$J$505,Timesheet!$B$6:$B$505,$A12,Timesheet!$A$6:$A$505,">="&DATE($B$3,$B$4,1),Timesheet!$A$6:$A$505,"<"&EDATE(DATE($B$3,$B$4,1),1))) | D12: =IF($A12="","",SUMIFS(Timesheet!$L$6:$L$505,Timesheet!$B$6:$B$505,$A12,Timesheet!$A$6:$A$505,">="&DATE($B$3,$B$4,1),Timesheet!$A$6:$A$505,"<"&EDATE(DATE($B$3,$B$4,1),1))) | E12: =IF($A12="","",D12-SUMIFS(Timesheet!$L$6:$L$505,Timesheet!$B$6:$B$505,$A12,Timesheet!$A$6:$A$505,">="&DATE($B$3,$B$4,1),Timesheet!$A$6:$A$505,"<"&EDATE(DATE($B$3,$B$4,1),1),Timesheet!$M$6:$M$505,"Yes")) | F12: =IF(OR($A12="",Clients!D11=""),"",Clients!D11-C12)
A13: =IF(Clients!A12="","",Clients!A12) | B13: =IF($A13="","",SUMIFS(Timesheet!$H$6:$H$505,Timesheet!$B$6:$B$505,$A13,Timesheet!$A$6:$A$505,">="&DATE($B$3,$B$4,1),Timesheet!$A$6:$A$505,"<"&EDATE(DATE($B$3,$B$4,1),1))) | C13: =IF($A13="","",SUMIFS(Timesheet!$J$6:$J$505,Timesheet!$B$6:$B$505,$A13,Timesheet!$A$6:$A$505,">="&DATE($B$3,$B$4,1),Timesheet!$A$6:$A$505,"<"&EDATE(DATE($B$3,$B$4,1),1))) | D13: =IF($A13="","",SUMIFS(Timesheet!$L$6:$L$505,Timesheet!$B$6:$B$505,$A13,Timesheet!$A$6:$A$505,">="&DATE($B$3,$B$4,1),Timesheet!$A$6:$A$505,"<"&EDATE(DATE($B$3,$B$4,1),1))) | E13: =IF($A13="","",D13-SUMIFS(Timesheet!$L$6:$L$505,Timesheet!$B$6:$B$505,$A13,Timesheet!$A$6:$A$505,">="&DATE($B$3,$B$4,1),Timesheet!$A$6:$A$505,"<"&EDATE(DATE($B$3,$B$4,1),1),Timesheet!$M$6:$M$505,"Yes")) | F13: =IF(OR($A13="",Clients!D12=""),"",Clients!D12-C13)
A14: =IF(Clients!A13="","",Clients!A13) | B14: =IF($A14="","",SUMIFS(Timesheet!$H$6:$H$505,Timesheet!$B$6:$B$505,$A14,Timesheet!$A$6:$A$505,">="&DATE($B$3,$B$4,1),Timesheet!$A$6:$A$505,"<"&EDATE(DATE($B$3,$B$4,1),1))) | C14: =IF($A14="","",SUMIFS(Timesheet!$J$6:$J$505,Timesheet!$B$6:$B$505,$A14,Timesheet!$A$6:$A$505,">="&DATE($B$3,$B$4,1),Timesheet!$A$6:$A$505,"<"&EDATE(DATE($B$3,$B$4,1),1))) | D14: =IF($A14="","",SUMIFS(Timesheet!$L$6:$L$505,Timesheet!$B$6:$B$505,$A14,Timesheet!$A$6:$A$505,">="&DATE($B$3,$B$4,1),Timesheet!$A$6:$A$505,"<"&EDATE(DATE($B$3,$B$4,1),1))) | E14: =IF($A14="","",D14-SUMIFS(Timesheet!$L$6:$L$505,Timesheet!$B$6:$B$505,$A14,Timesheet!$A$6:$A$505,">="&DATE($B$3,$B$4,1),Timesheet!$A$6:$A$505,"<"&EDATE(DATE($B$3,$B$4,1),1),Timesheet!$M$6:$M$505,"Yes")) | F14: =IF(OR($A14="",Clients!D13=""),"",Clients!D13-C14)
A15: =IF(Clients!A14="","",Clients!A14) | B15: =IF($A15="","",SUMIFS(Timesheet!$H$6:$H$505,Timesheet!$B$6:$B$505,$A15,Timesheet!$A$6:$A$505,">="&DATE($B$3,$B$4,1),Timesheet!$A$6:$A$505,"<"&EDATE(DATE($B$3,$B$4,1),1))) | C15: =IF($A15="","",SUMIFS(Timesheet!$J$6:$J$505,Timesheet!$B$6:$B$505,$A15,Timesheet!$A$6:$A$505,">="&DATE($B$3,$B$4,1),Timesheet!$A$6:$A$505,"<"&EDATE(DATE($B$3,$B$4,1),1))) | D15: =IF($A15="","",SUMIFS(Timesheet!$L$6:$L$505,Timesheet!$B$6:$B$505,$A15,Timesheet!$A$6:$A$505,">="&DATE($B$3,$B$4,1),Timesheet!$A$6:$A$505,"<"&EDATE(DATE($B$3,$B$4,1),1))) | E15: =IF($A15="","",D15-SUMIFS(Timesheet!$L$6:$L$505,Timesheet!$B$6:$B$505,$A15,Timesheet!$A$6:$A$505,">="&DATE($B$3,$B$4,1),Timesheet!$A$6:$A$505,"<"&EDATE(DATE($B$3,$B$4,1),1),Timesheet!$M$6:$M$505,"Yes")) | F15: =IF(OR($A15="",Clients!D14=""),"",Clients!D14-C15)
A16: =IF(Clients!A15="","",Clients!A15) | B16: =IF($A16="","",SUMIFS(Timesheet!$H$6:$H$505,Timesheet!$B$6:$B$505,$A16,Timesheet!$A$6:$A$505,">="&DATE($B$3,$B$4,1),Timesheet!$A$6:$A$505,"<"&EDATE(DATE($B$3,$B$4,1),1))) | C16: =IF($A16="","",SUMIFS(Timesheet!$J$6:$J$505,Timesheet!$B$6:$B$505,$A16,Timesheet!$A$6:$A$505,">="&DATE($B$3,$B$4,1),Timesheet!$A$6:$A$505,"<"&EDATE(DATE($B$3,$B$4,1),1))) | D16: =IF($A16="","",SUMIFS(Timesheet!$L$6:$L$505,Timesheet!$B$6:$B$505,$A16,Timesheet!$A$6:$A$505,">="&DATE($B$3,$B$4,1),Timesheet!$A$6:$A$505,"<"&EDATE(DATE($B$3,$B$4,1),1))) | E16: =IF($A16="","",D16-SUMIFS(Timesheet!$L$6:$L$505,Timesheet!$B$6:$B$505,$A16,Timesheet!$A$6:$A$505,">="&DATE($B$3,$B$4,1),Timesheet!$A$6:$A$505,"<"&EDATE(DATE($B$3,$B$4,1),1),Timesheet!$M$6:$M$505,"Yes")) | F16: =IF(OR($A16="",Clients!D15=""),"",Clients!D15-C16)
A17: =IF(Clients!A16="","",Clients!A16) | B17: =IF($A17="","",SUMIFS(Timesheet!$H$6:$H$505,Timesheet!$B$6:$B$505,$A17,Timesheet!$A$6:$A$505,">="&DATE($B$3,$B$4,1),Timesheet!$A$6:$A$505,"<"&EDATE(DATE($B$3,$B$4,1),1))) | C17: =IF($A17="","",SUMIFS(Timesheet!$J$6:$J$505,Timesheet!$B$6:$B$505,$A17,Timesheet!$A$6:$A$505,">="&DATE($B$3,$B$4,1),Timesheet!$A$6:$A$505,"<"&EDATE(DATE($B$3,$B$4,1),1))) | D17: =IF($A17="","",SUMIFS(Timesheet!$L$6:$L$505,Timesheet!$B$6:$B$505,$A17,Timesheet!$A$6:$A$505,">="&DATE($B$3,$B$4,1),Timesheet!$A$6:$A$505,"<"&EDATE(DATE($B$3,$B$4,1),1))) | E17: =IF($A17="","",D17-SUMIFS(Timesheet!$L$6:$L$505,Timesheet!$B$6:$B$505,$A17,Timesheet!$A$6:$A$505,">="&DATE($B$3,$B$4,1),Timesheet!$A$6:$A$505,"<"&EDATE(DATE($B$3,$B$4,1),1),Timesheet!$M$6:$M$505,"Yes")) | F17: =IF(OR($A17="",Clients!D16=""),"",Clients!D16-C17)
A18: =IF(Clients!A17="","",Clients!A17) | B18: =IF($A18="","",SUMIFS(Timesheet!$H$6:$H$505,Timesheet!$B$6:$B$505,$A18,Timesheet!$A$6:$A$505,">="&DATE($B$3,$B$4,1),Timesheet!$A$6:$A$505,"<"&EDATE(DATE($B$3,$B$4,1),1))) | C18: =IF($A18="","",SUMIFS(Timesheet!$J$6:$J$505,Timesheet!$B$6:$B$505,$A18,Timesheet!$A$6:$A$505,">="&DATE($B$3,$B$4,1),Timesheet!$A$6:$A$505,"<"&EDATE(DATE($B$3,$B$4,1),1))) | D18: =IF($A18="","",SUMIFS(Timesheet!$L$6:$L$505,Timesheet!$B$6:$B$505,$A18,Timesheet!$A$6:$A$505,">="&DATE($B$3,$B$4,1),Timesheet!$A$6:$A$505,"<"&EDATE(DATE($B$3,$B$4,1),1))) | E18: =IF($A18="","",D18-SUMIFS(Timesheet!$L$6:$L$505,Timesheet!$B$6:$B$505,$A18,Timesheet!$A$6:$A$505,">="&DATE($B$3,$B$4,1),Timesheet!$A$6:$A$505,"<"&EDATE(DATE($B$3,$B$4,1),1),Timesheet!$M$6:$M$505,"Yes")) | F18: =IF(OR($A18="",Clients!D17=""),"",Clients!D17-C18)
... A21: =IF(Clients!A20="","",Clients!A20) | B21: =IF($A21="","",SUMIFS(Timesheet!$H$6:$H$505,Timesheet!$B$6:$B$505,$A21,Timesheet!$A$6:$A$505,">="&DATE($B$3,$B$4,1),Timesheet!$A$6:$A$505,"<"&EDATE(DATE($B$3,$B$4,1),1))) | C21: =IF($A21="","",SUMIFS(Timesheet!$J$6:$J$505,Timesheet!$B$6:$B$505,$A21,Timesheet!$A$6:$A$505,">="&DATE($B$3,$B$4,1),Timesheet!$A$6:$A$505,"<"&EDATE(DATE($B$3,$B$4,1),1))) | D21: =IF($A21="","",SUMIFS(Timesheet!$L$6:$L$505,Timesheet!$B$6:$B$505,$A21,Timesheet!$A$6:$A$505,">="&DATE($B$3,$B$4,1),Timesheet!$A$6:$A$505,"<"&EDATE(DATE($B$3,$B$4,1),1))) | E21: =IF($A21="","",D21-SUMIFS(Timesheet!$L$6:$L$505,Timesheet!$B$6:$B$505,$A21,Timesheet!$A$6:$A$505,">="&DATE($B$3,$B$4,1),Timesheet!$A$6:$A$505,"<"&EDATE(DATE($B$3,$B$4,1),1),Timesheet!$M$6:$M$505,"Yes")) | F21: =IF(OR($A21="",Clients!D20=""),"",Clients!D20-C21)
A22: Total | B22: =SUM(B7:B21) | C22: =SUM(C7:C21) | D22: =SUM(D7:D21) | E22: =SUM(E7:E21)
A24: Amounts are net (before VAT). Turn them into an invoice with the free EU invoice template: eufreelancertools.com/tools/eu-invoice-template/
A25: Track invoices, VAT and tax set-aside in one workbook: Freelancer Money OS at eufreelancertools.com/freelancer-money-os/
